BEGIN:VCALENDAR
VERSION:2.0
PRODID:-//ExpressionEngine Easy iCalendar plugin//NONSGML v2.0.0//EN
X-WR-TIMEZONE:America/Chicago
X-WR-CALNAME:Upcoming Auctions
BEGIN:VEVENT
UID:93965
DTSTAMP:20230129T000000
DTSTART:20230129T000000
DTEND:20230212T150000
SUMMARY:February Online Only Special
LOCATION:2744 Hope Avenue\, Odebolt\, IA 51458\, US
DESCRIPTION:This auction will feature the conclusion of Luverne Langel o
 f Templeton IA\, Dennis Samuelson of Jewell IA\, and the first
  offering from Ernie Reinke of Manning IA\, custom toy builde
 r Steve Rohwer from Worthington MN\, and the complete toy an
 d ag/construction literature dispersal from Gerald and Charl
 otte Tripp of Schaller Iowa. Old toys\, new toys\, pedal cars\,
  over 30 custom tractors and more! 
URL:https://www.dreambigbidon.com/auctions/detail/bw93965
SEQUENCE:1
END:VEVENT
END:VCALENDAR